BEGIN:VCALENDAR
VERSION:2.0
PRODID:https://www.kufer.de/kuferweb / DE
METHOD:PUBLISH
CALSCALE:GREGORIAN
X-WR-TIMEZONE:Europe/Berlin
BEGIN:VTIMEZONE
TZID:Europe/Berlin
X-LIC-LOCATION:Europe/Berlin
BEGIN:DAYLIGHT
TZOFFSETFROM:+0100
TZOFFSETTO:+0200
TZNAME:CEST
DTSTART:19700329T020000
RRULE:FREQ=YEARLY;INTERVAL=1;BYDAY=-1SU;BYMONTH=3
END:DAYLIGHT
BEGIN:STANDARD
TZOFFSETFROM:+0200
TZOFFSETTO:+0100
TZNAME:CET
DTSTART:19701025T030000
RRULE:FREQ=YEARLY;INTERVAL=1;BYDAY=-1SU;BYMONTH=10
END:STANDARD
END:VTIMEZONE
BEGIN:VEVENT
DTSTAMP:20260420T165135
DTSTART;TZID=Europe/Berlin:20260416T190500
DTEND;TZID=Europe/Berlin:20260416T203500
UID:Y1GV3631-20260416T190500@FAMSEMLEVERKUSEN
SUMMARY:Hatha Yoga, trifft Vinyasa Yoga (Y1GV3631) 
LOCATION:Gymnastikhalle, Berliner Platz 3, 51379 Leverkusen
END:VEVENT
BEGIN:VEVENT
DTSTAMP:20260420T165135
DTSTART;TZID=Europe/Berlin:20260423T190500
DTEND;TZID=Europe/Berlin:20260423T203500
UID:Y1GV3631-20260423T190500@FAMSEMLEVERKUSEN
SUMMARY:Hatha Yoga, trifft Vinyasa Yoga (Y1GV3631) 
LOCATION:Gymnastikhalle, Berliner Platz 3, 51379 Leverkusen
END:VEVENT
BEGIN:VEVENT
DTSTAMP:20260420T165135
DTSTART;TZID=Europe/Berlin:20260507T190500
DTEND;TZID=Europe/Berlin:20260507T203500
UID:Y1GV3631-20260507T190500@FAMSEMLEVERKUSEN
SUMMARY:Hatha Yoga, trifft Vinyasa Yoga (Y1GV3631) 
LOCATION:Gymnastikhalle, Berliner Platz 3, 51379 Leverkusen
END:VEVENT
BEGIN:VEVENT
DTSTAMP:20260420T165135
DTSTART;TZID=Europe/Berlin:20260521T190500
DTEND;TZID=Europe/Berlin:20260521T203500
UID:Y1GV3631-20260521T190500@FAMSEMLEVERKUSEN
SUMMARY:Hatha Yoga, trifft Vinyasa Yoga (Y1GV3631) 
LOCATION:Gymnastikhalle, Berliner Platz 3, 51379 Leverkusen
END:VEVENT
BEGIN:VEVENT
DTSTAMP:20260420T165135
DTSTART;TZID=Europe/Berlin:20260528T190500
DTEND;TZID=Europe/Berlin:20260528T203500
UID:Y1GV3631-20260528T190500@FAMSEMLEVERKUSEN
SUMMARY:Hatha Yoga, trifft Vinyasa Yoga (Y1GV3631) 
LOCATION:Gymnastikhalle, Berliner Platz 3, 51379 Leverkusen
END:VEVENT
BEGIN:VEVENT
DTSTAMP:20260420T165135
DTSTART;TZID=Europe/Berlin:20260611T190500
DTEND;TZID=Europe/Berlin:20260611T203500
UID:Y1GV3631-20260611T190500@FAMSEMLEVERKUSEN
SUMMARY:Hatha Yoga, trifft Vinyasa Yoga (Y1GV3631) 
LOCATION:Gymnastikhalle, Berliner Platz 3, 51379 Leverkusen
END:VEVENT
BEGIN:VEVENT
DTSTAMP:20260420T165135
DTSTART;TZID=Europe/Berlin:20260618T190500
DTEND;TZID=Europe/Berlin:20260618T203500
UID:Y1GV3631-20260618T190500@FAMSEMLEVERKUSEN
SUMMARY:Hatha Yoga, trifft Vinyasa Yoga (Y1GV3631) 
LOCATION:Gymnastikhalle, Berliner Platz 3, 51379 Leverkusen
END:VEVENT
BEGIN:VEVENT
DTSTAMP:20260420T165135
DTSTART;TZID=Europe/Berlin:20260625T190500
DTEND;TZID=Europe/Berlin:20260625T203500
UID:Y1GV3631-20260625T190500@FAMSEMLEVERKUSEN
SUMMARY:Hatha Yoga, trifft Vinyasa Yoga (Y1GV3631) 
LOCATION:Gymnastikhalle, Berliner Platz 3, 51379 Leverkusen
END:VEVENT
BEGIN:VEVENT
DTSTAMP:20260420T165135
DTSTART;TZID=Europe/Berlin:20260702T190500
DTEND;TZID=Europe/Berlin:20260702T203500
UID:Y1GV3631-20260702T190500@FAMSEMLEVERKUSEN
SUMMARY:Hatha Yoga, trifft Vinyasa Yoga (Y1GV3631) 
LOCATION:Gymnastikhalle, Berliner Platz 3, 51379 Leverkusen
END:VEVENT
BEGIN:VEVENT
DTSTAMP:20260420T165135
DTSTART;TZID=Europe/Berlin:20260709T190500
DTEND;TZID=Europe/Berlin:20260709T203500
UID:Y1GV3631-20260709T190500@FAMSEMLEVERKUSEN
SUMMARY:Hatha Yoga, trifft Vinyasa Yoga (Y1GV3631) 
LOCATION:Gymnastikhalle, Berliner Platz 3, 51379 Leverkusen
END:VEVENT
END:VCALENDAR