BEGIN:VCALENDAR
VERSION:2.0
PRODID:https://www.kufer.de/kuferweb / DE
METHOD:PUBLISH
CALSCALE:GREGORIAN
X-WR-TIMEZONE:Europe/Berlin
BEGIN:VTIMEZONE
TZID:Europe/Berlin
X-LIC-LOCATION:Europe/Berlin
BEGIN:DAYLIGHT
TZOFFSETFROM:+0100
TZOFFSETTO:+0200
TZNAME:CEST
DTSTART:19700329T020000
RRULE:FREQ=YEARLY;INTERVAL=1;BYDAY=-1SU;BYMONTH=3
END:DAYLIGHT
BEGIN:STANDARD
TZOFFSETFROM:+0200
TZOFFSETTO:+0100
TZNAME:CET
DTSTART:19701025T030000
RRULE:FREQ=YEARLY;INTERVAL=1;BYDAY=-1SU;BYMONTH=10
END:STANDARD
END:VTIMEZONE
BEGIN:VEVENT
DTSTAMP:20260420T164402
DTSTART;TZID=Europe/Berlin:20260112T090000
DTEND;TZID=Europe/Berlin:20260112T103000
UID:Y1FZ002-20260112T090000@FAMSEMLEVERKUSEN
SUMMARY:Interkulturelle Spielgruppe für Eltern und Kinder (Y1FZ002) 
LOCATION:Familienzentrum Nikolaus-Groß-Str., Nikolaus-Groß-Str. 2, 51377 Leverkusen
END:VEVENT
BEGIN:VEVENT
DTSTAMP:20260420T164402
DTSTART;TZID=Europe/Berlin:20260119T090000
DTEND;TZID=Europe/Berlin:20260119T103000
UID:Y1FZ002-20260119T090000@FAMSEMLEVERKUSEN
SUMMARY:Interkulturelle Spielgruppe für Eltern und Kinder (Y1FZ002) 
LOCATION:Familienzentrum Nikolaus-Groß-Str., Nikolaus-Groß-Str. 2, 51377 Leverkusen
END:VEVENT
BEGIN:VEVENT
DTSTAMP:20260420T164402
DTSTART;TZID=Europe/Berlin:20260126T090000
DTEND;TZID=Europe/Berlin:20260126T103000
UID:Y1FZ002-20260126T090000@FAMSEMLEVERKUSEN
SUMMARY:Interkulturelle Spielgruppe für Eltern und Kinder (Y1FZ002) 
LOCATION:Familienzentrum Nikolaus-Groß-Str., Nikolaus-Groß-Str. 2, 51377 Leverkusen
END:VEVENT
BEGIN:VEVENT
DTSTAMP:20260420T164402
DTSTART;TZID=Europe/Berlin:20260202T090000
DTEND;TZID=Europe/Berlin:20260202T103000
UID:Y1FZ002-20260202T090000@FAMSEMLEVERKUSEN
SUMMARY:Interkulturelle Spielgruppe für Eltern und Kinder (Y1FZ002) 
LOCATION:Familienzentrum Nikolaus-Groß-Str., Nikolaus-Groß-Str. 2, 51377 Leverkusen
END:VEVENT
BEGIN:VEVENT
DTSTAMP:20260420T164402
DTSTART;TZID=Europe/Berlin:20260209T090000
DTEND;TZID=Europe/Berlin:20260209T103000
UID:Y1FZ002-20260209T090000@FAMSEMLEVERKUSEN
SUMMARY:Interkulturelle Spielgruppe für Eltern und Kinder (Y1FZ002) 
LOCATION:Familienzentrum Nikolaus-Groß-Str., Nikolaus-Groß-Str. 2, 51377 Leverkusen
END:VEVENT
BEGIN:VEVENT
DTSTAMP:20260420T164402
DTSTART;TZID=Europe/Berlin:20260216T090000
DTEND;TZID=Europe/Berlin:20260216T103000
UID:Y1FZ002-20260216T090000@FAMSEMLEVERKUSEN
SUMMARY:Interkulturelle Spielgruppe für Eltern und Kinder (Y1FZ002) 
LOCATION:Familienzentrum Nikolaus-Groß-Str., Nikolaus-Groß-Str. 2, 51377 Leverkusen
END:VEVENT
BEGIN:VEVENT
DTSTAMP:20260420T164402
DTSTART;TZID=Europe/Berlin:20260223T090000
DTEND;TZID=Europe/Berlin:20260223T103000
UID:Y1FZ002-20260223T090000@FAMSEMLEVERKUSEN
SUMMARY:Interkulturelle Spielgruppe für Eltern und Kinder (Y1FZ002) 
LOCATION:Familienzentrum Nikolaus-Groß-Str., Nikolaus-Groß-Str. 2, 51377 Leverkusen
END:VEVENT
BEGIN:VEVENT
DTSTAMP:20260420T164402
DTSTART;TZID=Europe/Berlin:20260302T090000
DTEND;TZID=Europe/Berlin:20260302T103000
UID:Y1FZ002-20260302T090000@FAMSEMLEVERKUSEN
SUMMARY:Interkulturelle Spielgruppe für Eltern und Kinder (Y1FZ002) 
LOCATION:Familienzentrum Nikolaus-Groß-Str., Nikolaus-Groß-Str. 2, 51377 Leverkusen
END:VEVENT
BEGIN:VEVENT
DTSTAMP:20260420T164402
DTSTART;TZID=Europe/Berlin:20260309T090000
DTEND;TZID=Europe/Berlin:20260309T103000
UID:Y1FZ002-20260309T090000@FAMSEMLEVERKUSEN
SUMMARY:Interkulturelle Spielgruppe für Eltern und Kinder (Y1FZ002) 
LOCATION:Familienzentrum Nikolaus-Groß-Str., Nikolaus-Groß-Str. 2, 51377 Leverkusen
END:VEVENT
BEGIN:VEVENT
DTSTAMP:20260420T164402
DTSTART;TZID=Europe/Berlin:20260316T090000
DTEND;TZID=Europe/Berlin:20260316T103000
UID:Y1FZ002-20260316T090000@FAMSEMLEVERKUSEN
SUMMARY:Interkulturelle Spielgruppe für Eltern und Kinder (Y1FZ002) 
LOCATION:Familienzentrum Nikolaus-Groß-Str., Nikolaus-Groß-Str. 2, 51377 Leverkusen
END:VEVENT
BEGIN:VEVENT
DTSTAMP:20260420T164402
DTSTART;TZID=Europe/Berlin:20260323T090000
DTEND;TZID=Europe/Berlin:20260323T103000
UID:Y1FZ002-20260323T090000@FAMSEMLEVERKUSEN
SUMMARY:Interkulturelle Spielgruppe für Eltern und Kinder (Y1FZ002) 
LOCATION:Familienzentrum Nikolaus-Groß-Str., Nikolaus-Groß-Str. 2, 51377 Leverkusen
END:VEVENT
BEGIN:VEVENT
DTSTAMP:20260420T164402
DTSTART;TZID=Europe/Berlin:20260330T090000
DTEND;TZID=Europe/Berlin:20260330T103000
UID:Y1FZ002-20260330T090000@FAMSEMLEVERKUSEN
SUMMARY:Interkulturelle Spielgruppe für Eltern und Kinder (Y1FZ002) 
LOCATION:Familienzentrum Nikolaus-Groß-Str., Nikolaus-Groß-Str. 2, 51377 Leverkusen
END:VEVENT
BEGIN:VEVENT
DTSTAMP:20260420T164402
DTSTART;TZID=Europe/Berlin:20260406T090000
DTEND;TZID=Europe/Berlin:20260406T103000
UID:Y1FZ002-20260406T090000@FAMSEMLEVERKUSEN
SUMMARY:Interkulturelle Spielgruppe für Eltern und Kinder (Y1FZ002) 
LOCATION:Familienzentrum Nikolaus-Groß-Str., Nikolaus-Groß-Str. 2, 51377 Leverkusen
END:VEVENT
BEGIN:VEVENT
DTSTAMP:20260420T164402
DTSTART;TZID=Europe/Berlin:20260413T090000
DTEND;TZID=Europe/Berlin:20260413T103000
UID:Y1FZ002-20260413T090000@FAMSEMLEVERKUSEN
SUMMARY:Interkulturelle Spielgruppe für Eltern und Kinder (Y1FZ002) 
LOCATION:Familienzentrum Nikolaus-Groß-Str., Nikolaus-Groß-Str. 2, 51377 Leverkusen
END:VEVENT
BEGIN:VEVENT
DTSTAMP:20260420T164402
DTSTART;TZID=Europe/Berlin:20260420T090000
DTEND;TZID=Europe/Berlin:20260420T103000
UID:Y1FZ002-20260420T090000@FAMSEMLEVERKUSEN
SUMMARY:Interkulturelle Spielgruppe für Eltern und Kinder (Y1FZ002) 
LOCATION:Familienzentrum Nikolaus-Groß-Str., Nikolaus-Groß-Str. 2, 51377 Leverkusen
END:VEVENT
BEGIN:VEVENT
DTSTAMP:20260420T164402
DTSTART;TZID=Europe/Berlin:20260427T090000
DTEND;TZID=Europe/Berlin:20260427T103000
UID:Y1FZ002-20260427T090000@FAMSEMLEVERKUSEN
SUMMARY:Interkulturelle Spielgruppe für Eltern und Kinder (Y1FZ002) 
LOCATION:Familienzentrum Nikolaus-Groß-Str., Nikolaus-Groß-Str. 2, 51377 Leverkusen
END:VEVENT
BEGIN:VEVENT
DTSTAMP:20260420T164402
DTSTART;TZID=Europe/Berlin:20260504T090000
DTEND;TZID=Europe/Berlin:20260504T103000
UID:Y1FZ002-20260504T090000@FAMSEMLEVERKUSEN
SUMMARY:Interkulturelle Spielgruppe für Eltern und Kinder (Y1FZ002) 
LOCATION:Familienzentrum Nikolaus-Groß-Str., Nikolaus-Groß-Str. 2, 51377 Leverkusen
END:VEVENT
BEGIN:VEVENT
DTSTAMP:20260420T164402
DTSTART;TZID=Europe/Berlin:20260511T090000
DTEND;TZID=Europe/Berlin:20260511T103000
UID:Y1FZ002-20260511T090000@FAMSEMLEVERKUSEN
SUMMARY:Interkulturelle Spielgruppe für Eltern und Kinder (Y1FZ002) 
LOCATION:Familienzentrum Nikolaus-Groß-Str., Nikolaus-Groß-Str. 2, 51377 Leverkusen
END:VEVENT
BEGIN:VEVENT
DTSTAMP:20260420T164402
DTSTART;TZID=Europe/Berlin:20260518T090000
DTEND;TZID=Europe/Berlin:20260518T103000
UID:Y1FZ002-20260518T090000@FAMSEMLEVERKUSEN
SUMMARY:Interkulturelle Spielgruppe für Eltern und Kinder (Y1FZ002) 
LOCATION:Familienzentrum Nikolaus-Groß-Str., Nikolaus-Groß-Str. 2, 51377 Leverkusen
END:VEVENT
BEGIN:VEVENT
DTSTAMP:20260420T164402
DTSTART;TZID=Europe/Berlin:20260525T090000
DTEND;TZID=Europe/Berlin:20260525T103000
UID:Y1FZ002-20260525T090000@FAMSEMLEVERKUSEN
SUMMARY:Interkulturelle Spielgruppe für Eltern und Kinder (Y1FZ002) 
LOCATION:Familienzentrum Nikolaus-Groß-Str., Nikolaus-Groß-Str. 2, 51377 Leverkusen
END:VEVENT
BEGIN:VEVENT
DTSTAMP:20260420T164402
DTSTART;TZID=Europe/Berlin:20260601T090000
DTEND;TZID=Europe/Berlin:20260601T103000
UID:Y1FZ002-20260601T090000@FAMSEMLEVERKUSEN
SUMMARY:Interkulturelle Spielgruppe für Eltern und Kinder (Y1FZ002) 
LOCATION:Familienzentrum Nikolaus-Groß-Str., Nikolaus-Groß-Str. 2, 51377 Leverkusen
END:VEVENT
BEGIN:VEVENT
DTSTAMP:20260420T164402
DTSTART;TZID=Europe/Berlin:20260608T090000
DTEND;TZID=Europe/Berlin:20260608T103000
UID:Y1FZ002-20260608T090000@FAMSEMLEVERKUSEN
SUMMARY:Interkulturelle Spielgruppe für Eltern und Kinder (Y1FZ002) 
LOCATION:Familienzentrum Nikolaus-Groß-Str., Nikolaus-Groß-Str. 2, 51377 Leverkusen
END:VEVENT
BEGIN:VEVENT
DTSTAMP:20260420T164402
DTSTART;TZID=Europe/Berlin:20260615T090000
DTEND;TZID=Europe/Berlin:20260615T103000
UID:Y1FZ002-20260615T090000@FAMSEMLEVERKUSEN
SUMMARY:Interkulturelle Spielgruppe für Eltern und Kinder (Y1FZ002) 
LOCATION:Familienzentrum Nikolaus-Groß-Str., Nikolaus-Groß-Str. 2, 51377 Leverkusen
END:VEVENT
BEGIN:VEVENT
DTSTAMP:20260420T164402
DTSTART;TZID=Europe/Berlin:20260622T090000
DTEND;TZID=Europe/Berlin:20260622T103000
UID:Y1FZ002-20260622T090000@FAMSEMLEVERKUSEN
SUMMARY:Interkulturelle Spielgruppe für Eltern und Kinder (Y1FZ002) 
LOCATION:Familienzentrum Nikolaus-Groß-Str., Nikolaus-Groß-Str. 2, 51377 Leverkusen
END:VEVENT
BEGIN:VEVENT
DTSTAMP:20260420T164402
DTSTART;TZID=Europe/Berlin:20260629T090000
DTEND;TZID=Europe/Berlin:20260629T103000
UID:Y1FZ002-20260629T090000@FAMSEMLEVERKUSEN
SUMMARY:Interkulturelle Spielgruppe für Eltern und Kinder (Y1FZ002) 
LOCATION:Familienzentrum Nikolaus-Groß-Str., Nikolaus-Groß-Str. 2, 51377 Leverkusen
END:VEVENT
BEGIN:VEVENT
DTSTAMP:20260420T164402
DTSTART;TZID=Europe/Berlin:20260706T090000
DTEND;TZID=Europe/Berlin:20260706T103000
UID:Y1FZ002-20260706T090000@FAMSEMLEVERKUSEN
SUMMARY:Interkulturelle Spielgruppe für Eltern und Kinder (Y1FZ002) 
LOCATION:Familienzentrum Nikolaus-Groß-Str., Nikolaus-Groß-Str. 2, 51377 Leverkusen
END:VEVENT
BEGIN:VEVENT
DTSTAMP:20260420T164402
DTSTART;TZID=Europe/Berlin:20260713T090000
DTEND;TZID=Europe/Berlin:20260713T103000
UID:Y1FZ002-20260713T090000@FAMSEMLEVERKUSEN
SUMMARY:Interkulturelle Spielgruppe für Eltern und Kinder (Y1FZ002) 
LOCATION:Familienzentrum Nikolaus-Groß-Str., Nikolaus-Groß-Str. 2, 51377 Leverkusen
END:VEVENT
END:VCALENDAR