BEGIN:VCALENDAR
VERSION:2.0
PRODID:https://www.kufer.de/kuferweb / DE
METHOD:PUBLISH
CALSCALE:GREGORIAN
X-WR-TIMEZONE:Europe/Berlin
BEGIN:VTIMEZONE
TZID:Europe/Berlin
X-LIC-LOCATION:Europe/Berlin
BEGIN:DAYLIGHT
TZOFFSETFROM:+0100
TZOFFSETTO:+0200
TZNAME:CEST
DTSTART:19700329T020000
RRULE:FREQ=YEARLY;INTERVAL=1;BYDAY=-1SU;BYMONTH=3
END:DAYLIGHT
BEGIN:STANDARD
TZOFFSETFROM:+0200
TZOFFSETTO:+0100
TZNAME:CET
DTSTART:19701025T030000
RRULE:FREQ=YEARLY;INTERVAL=1;BYDAY=-1SU;BYMONTH=10
END:STANDARD
END:VTIMEZONE
BEGIN:VEVENT
DTSTAMP:20260420T164534
DTSTART;TZID=Europe/Berlin:20250828T093000
DTEND;TZID=Europe/Berlin:20250828T114500
UID:X3GV197-20250828T093000@FAMSEMLEVERKUSEN
SUMMARY:"Guter Start in den Tag" - lecker und gesund Frühstücken für die ganze Familie (X3GV197) 
LOCATION:Lehrküche und /oder Essraum, Berliner Platz 3, 51379 Leverkusen
END:VEVENT
BEGIN:VEVENT
DTSTAMP:20260420T164534
DTSTART;TZID=Europe/Berlin:20250904T093000
DTEND;TZID=Europe/Berlin:20250904T114500
UID:X3GV197-20250904T093000@FAMSEMLEVERKUSEN
SUMMARY:"Guter Start in den Tag" - lecker und gesund Frühstücken für die ganze Familie (X3GV197) 
LOCATION:Lehrküche und /oder Essraum, Berliner Platz 3, 51379 Leverkusen
END:VEVENT
BEGIN:VEVENT
DTSTAMP:20260420T164534
DTSTART;TZID=Europe/Berlin:20250911T093000
DTEND;TZID=Europe/Berlin:20250911T114500
UID:X3GV197-20250911T093000@FAMSEMLEVERKUSEN
SUMMARY:"Guter Start in den Tag" - lecker und gesund Frühstücken für die ganze Familie (X3GV197) 
LOCATION:Lehrküche und /oder Essraum, Berliner Platz 3, 51379 Leverkusen
END:VEVENT
BEGIN:VEVENT
DTSTAMP:20260420T164534
DTSTART;TZID=Europe/Berlin:20250918T093000
DTEND;TZID=Europe/Berlin:20250918T114500
UID:X3GV197-20250918T093000@FAMSEMLEVERKUSEN
SUMMARY:"Guter Start in den Tag" - lecker und gesund Frühstücken für die ganze Familie (X3GV197) 
LOCATION:Lehrküche und /oder Essraum, Berliner Platz 3, 51379 Leverkusen
END:VEVENT
BEGIN:VEVENT
DTSTAMP:20260420T164534
DTSTART;TZID=Europe/Berlin:20250925T093000
DTEND;TZID=Europe/Berlin:20250925T114500
UID:X3GV197-20250925T093000@FAMSEMLEVERKUSEN
SUMMARY:"Guter Start in den Tag" - lecker und gesund Frühstücken für die ganze Familie (X3GV197) 
LOCATION:Lehrküche und /oder Essraum, Berliner Platz 3, 51379 Leverkusen
END:VEVENT
BEGIN:VEVENT
DTSTAMP:20260420T164534
DTSTART;TZID=Europe/Berlin:20251002T093000
DTEND;TZID=Europe/Berlin:20251002T114500
UID:X3GV197-20251002T093000@FAMSEMLEVERKUSEN
SUMMARY:"Guter Start in den Tag" - lecker und gesund Frühstücken für die ganze Familie (X3GV197) 
LOCATION:Lehrküche und /oder Essraum, Berliner Platz 3, 51379 Leverkusen
END:VEVENT
BEGIN:VEVENT
DTSTAMP:20260420T164534
DTSTART;TZID=Europe/Berlin:20251009T093000
DTEND;TZID=Europe/Berlin:20251009T114500
UID:X3GV197-20251009T093000@FAMSEMLEVERKUSEN
SUMMARY:"Guter Start in den Tag" - lecker und gesund Frühstücken für die ganze Familie (X3GV197) 
LOCATION:Lehrküche und /oder Essraum, Berliner Platz 3, 51379 Leverkusen
END:VEVENT
BEGIN:VEVENT
DTSTAMP:20260420T164534
DTSTART;TZID=Europe/Berlin:20251016T093000
DTEND;TZID=Europe/Berlin:20251016T114500
UID:X3GV197-20251016T093000@FAMSEMLEVERKUSEN
SUMMARY:"Guter Start in den Tag" - lecker und gesund Frühstücken für die ganze Familie (X3GV197) 
LOCATION:Lehrküche und /oder Essraum, Berliner Platz 3, 51379 Leverkusen
END:VEVENT
BEGIN:VEVENT
DTSTAMP:20260420T164534
DTSTART;TZID=Europe/Berlin:20251023T093000
DTEND;TZID=Europe/Berlin:20251023T114500
UID:X3GV197-20251023T093000@FAMSEMLEVERKUSEN
SUMMARY:"Guter Start in den Tag" - lecker und gesund Frühstücken für die ganze Familie (X3GV197) 
LOCATION:Lehrküche und /oder Essraum, Berliner Platz 3, 51379 Leverkusen
END:VEVENT
BEGIN:VEVENT
DTSTAMP:20260420T164534
DTSTART;TZID=Europe/Berlin:20251030T093000
DTEND;TZID=Europe/Berlin:20251030T114500
UID:X3GV197-20251030T093000@FAMSEMLEVERKUSEN
SUMMARY:"Guter Start in den Tag" - lecker und gesund Frühstücken für die ganze Familie (X3GV197) 
LOCATION:Lehrküche und /oder Essraum, Berliner Platz 3, 51379 Leverkusen
END:VEVENT
BEGIN:VEVENT
DTSTAMP:20260420T164534
DTSTART;TZID=Europe/Berlin:20251106T093000
DTEND;TZID=Europe/Berlin:20251106T114500
UID:X3GV197-20251106T093000@FAMSEMLEVERKUSEN
SUMMARY:"Guter Start in den Tag" - lecker und gesund Frühstücken für die ganze Familie (X3GV197) 
LOCATION:Lehrküche und /oder Essraum, Berliner Platz 3, 51379 Leverkusen
END:VEVENT
BEGIN:VEVENT
DTSTAMP:20260420T164534
DTSTART;TZID=Europe/Berlin:20251113T093000
DTEND;TZID=Europe/Berlin:20251113T114500
UID:X3GV197-20251113T093000@FAMSEMLEVERKUSEN
SUMMARY:"Guter Start in den Tag" - lecker und gesund Frühstücken für die ganze Familie (X3GV197) 
LOCATION:Lehrküche und /oder Essraum, Berliner Platz 3, 51379 Leverkusen
END:VEVENT
BEGIN:VEVENT
DTSTAMP:20260420T164534
DTSTART;TZID=Europe/Berlin:20251120T093000
DTEND;TZID=Europe/Berlin:20251120T114500
UID:X3GV197-20251120T093000@FAMSEMLEVERKUSEN
SUMMARY:"Guter Start in den Tag" - lecker und gesund Frühstücken für die ganze Familie (X3GV197) 
LOCATION:Lehrküche und /oder Essraum, Berliner Platz 3, 51379 Leverkusen
END:VEVENT
BEGIN:VEVENT
DTSTAMP:20260420T164534
DTSTART;TZID=Europe/Berlin:20251127T093000
DTEND;TZID=Europe/Berlin:20251127T114500
UID:X3GV197-20251127T093000@FAMSEMLEVERKUSEN
SUMMARY:"Guter Start in den Tag" - lecker und gesund Frühstücken für die ganze Familie (X3GV197) 
LOCATION:Lehrküche und /oder Essraum, Berliner Platz 3, 51379 Leverkusen
END:VEVENT
BEGIN:VEVENT
DTSTAMP:20260420T164534
DTSTART;TZID=Europe/Berlin:20251204T093000
DTEND;TZID=Europe/Berlin:20251204T114500
UID:X3GV197-20251204T093000@FAMSEMLEVERKUSEN
SUMMARY:"Guter Start in den Tag" - lecker und gesund Frühstücken für die ganze Familie (X3GV197) 
LOCATION:Lehrküche und /oder Essraum, Berliner Platz 3, 51379 Leverkusen
END:VEVENT
BEGIN:VEVENT
DTSTAMP:20260420T164534
DTSTART;TZID=Europe/Berlin:20251211T093000
DTEND;TZID=Europe/Berlin:20251211T114500
UID:X3GV197-20251211T093000@FAMSEMLEVERKUSEN
SUMMARY:"Guter Start in den Tag" - lecker und gesund Frühstücken für die ganze Familie (X3GV197) 
LOCATION:Lehrküche und /oder Essraum, Berliner Platz 3, 51379 Leverkusen
END:VEVENT
BEGIN:VEVENT
DTSTAMP:20260420T164534
DTSTART;TZID=Europe/Berlin:20251218T093000
DTEND;TZID=Europe/Berlin:20251218T114500
UID:X3GV197-20251218T093000@FAMSEMLEVERKUSEN
SUMMARY:"Guter Start in den Tag" - lecker und gesund Frühstücken für die ganze Familie (X3GV197) 
LOCATION:Lehrküche und /oder Essraum, Berliner Platz 3, 51379 Leverkusen
END:VEVENT
BEGIN:VEVENT
DTSTAMP:20260420T164534
DTSTART;TZID=Europe/Berlin:20260108T093000
DTEND;TZID=Europe/Berlin:20260108T114500
UID:X3GV197-20260108T093000@FAMSEMLEVERKUSEN
SUMMARY:"Guter Start in den Tag" - lecker und gesund Frühstücken für die ganze Familie (X3GV197) 
LOCATION:Lehrküche und /oder Essraum, Berliner Platz 3, 51379 Leverkusen
END:VEVENT
BEGIN:VEVENT
DTSTAMP:20260420T164534
DTSTART;TZID=Europe/Berlin:20260115T093000
DTEND;TZID=Europe/Berlin:20260115T114500
UID:X3GV197-20260115T093000@FAMSEMLEVERKUSEN
SUMMARY:"Guter Start in den Tag" - lecker und gesund Frühstücken für die ganze Familie (X3GV197) 
LOCATION:Lehrküche und /oder Essraum, Berliner Platz 3, 51379 Leverkusen
END:VEVENT
BEGIN:VEVENT
DTSTAMP:20260420T164534
DTSTART;TZID=Europe/Berlin:20260122T093000
DTEND;TZID=Europe/Berlin:20260122T114500
UID:X3GV197-20260122T093000@FAMSEMLEVERKUSEN
SUMMARY:"Guter Start in den Tag" - lecker und gesund Frühstücken für die ganze Familie (X3GV197) 
LOCATION:Lehrküche und /oder Essraum, Berliner Platz 3, 51379 Leverkusen
END:VEVENT
BEGIN:VEVENT
DTSTAMP:20260420T164534
DTSTART;TZID=Europe/Berlin:20260129T093000
DTEND;TZID=Europe/Berlin:20260129T114500
UID:X3GV197-20260129T093000@FAMSEMLEVERKUSEN
SUMMARY:"Guter Start in den Tag" - lecker und gesund Frühstücken für die ganze Familie (X3GV197) 
LOCATION:Lehrküche und /oder Essraum, Berliner Platz 3, 51379 Leverkusen
END:VEVENT
BEGIN:VEVENT
DTSTAMP:20260420T164534
DTSTART;TZID=Europe/Berlin:20260205T093000
DTEND;TZID=Europe/Berlin:20260205T114500
UID:X3GV197-20260205T093000@FAMSEMLEVERKUSEN
SUMMARY:"Guter Start in den Tag" - lecker und gesund Frühstücken für die ganze Familie (X3GV197) 
LOCATION:Lehrküche und /oder Essraum, Berliner Platz 3, 51379 Leverkusen
END:VEVENT
BEGIN:VEVENT
DTSTAMP:20260420T164534
DTSTART;TZID=Europe/Berlin:20260212T093000
DTEND;TZID=Europe/Berlin:20260212T114500
UID:X3GV197-20260212T093000@FAMSEMLEVERKUSEN
SUMMARY:"Guter Start in den Tag" - lecker und gesund Frühstücken für die ganze Familie (X3GV197) 
LOCATION:Lehrküche und /oder Essraum, Berliner Platz 3, 51379 Leverkusen
END:VEVENT
BEGIN:VEVENT
DTSTAMP:20260420T164534
DTSTART;TZID=Europe/Berlin:20260219T093000
DTEND;TZID=Europe/Berlin:20260219T114500
UID:X3GV197-20260219T093000@FAMSEMLEVERKUSEN
SUMMARY:"Guter Start in den Tag" - lecker und gesund Frühstücken für die ganze Familie (X3GV197) 
LOCATION:Lehrküche und /oder Essraum, Berliner Platz 3, 51379 Leverkusen
END:VEVENT
BEGIN:VEVENT
DTSTAMP:20260420T164534
DTSTART;TZID=Europe/Berlin:20260226T093000
DTEND;TZID=Europe/Berlin:20260226T114500
UID:X3GV197-20260226T093000@FAMSEMLEVERKUSEN
SUMMARY:"Guter Start in den Tag" - lecker und gesund Frühstücken für die ganze Familie (X3GV197) 
LOCATION:Lehrküche und /oder Essraum, Berliner Platz 3, 51379 Leverkusen
END:VEVENT
BEGIN:VEVENT
DTSTAMP:20260420T164534
DTSTART;TZID=Europe/Berlin:20260305T093000
DTEND;TZID=Europe/Berlin:20260305T114500
UID:X3GV197-20260305T093000@FAMSEMLEVERKUSEN
SUMMARY:"Guter Start in den Tag" - lecker und gesund Frühstücken für die ganze Familie (X3GV197) 
LOCATION:Lehrküche und /oder Essraum, Berliner Platz 3, 51379 Leverkusen
END:VEVENT
BEGIN:VEVENT
DTSTAMP:20260420T164534
DTSTART;TZID=Europe/Berlin:20260312T093000
DTEND;TZID=Europe/Berlin:20260312T114500
UID:X3GV197-20260312T093000@FAMSEMLEVERKUSEN
SUMMARY:"Guter Start in den Tag" - lecker und gesund Frühstücken für die ganze Familie (X3GV197) 
LOCATION:Lehrküche und /oder Essraum, Berliner Platz 3, 51379 Leverkusen
END:VEVENT
BEGIN:VEVENT
DTSTAMP:20260420T164534
DTSTART;TZID=Europe/Berlin:20260319T093000
DTEND;TZID=Europe/Berlin:20260319T114500
UID:X3GV197-20260319T093000@FAMSEMLEVERKUSEN
SUMMARY:"Guter Start in den Tag" - lecker und gesund Frühstücken für die ganze Familie (X3GV197) 
LOCATION:Lehrküche und /oder Essraum, Berliner Platz 3, 51379 Leverkusen
END:VEVENT
BEGIN:VEVENT
DTSTAMP:20260420T164534
DTSTART;TZID=Europe/Berlin:20260326T093000
DTEND;TZID=Europe/Berlin:20260326T114500
UID:X3GV197-20260326T093000@FAMSEMLEVERKUSEN
SUMMARY:"Guter Start in den Tag" - lecker und gesund Frühstücken für die ganze Familie (X3GV197) 
LOCATION:Lehrküche und /oder Essraum, Berliner Platz 3, 51379 Leverkusen
END:VEVENT
BEGIN:VEVENT
DTSTAMP:20260420T164534
DTSTART;TZID=Europe/Berlin:20260402T093000
DTEND;TZID=Europe/Berlin:20260402T114500
UID:X3GV197-20260402T093000@FAMSEMLEVERKUSEN
SUMMARY:"Guter Start in den Tag" - lecker und gesund Frühstücken für die ganze Familie (X3GV197) 
LOCATION:Lehrküche und /oder Essraum, Berliner Platz 3, 51379 Leverkusen
END:VEVENT
BEGIN:VEVENT
DTSTAMP:20260420T164534
DTSTART;TZID=Europe/Berlin:20260409T093000
DTEND;TZID=Europe/Berlin:20260409T114500
UID:X3GV197-20260409T093000@FAMSEMLEVERKUSEN
SUMMARY:"Guter Start in den Tag" - lecker und gesund Frühstücken für die ganze Familie (X3GV197) 
LOCATION:Lehrküche und /oder Essraum, Berliner Platz 3, 51379 Leverkusen
END:VEVENT
BEGIN:VEVENT
DTSTAMP:20260420T164534
DTSTART;TZID=Europe/Berlin:20260416T093000
DTEND;TZID=Europe/Berlin:20260416T114500
UID:X3GV197-20260416T093000@FAMSEMLEVERKUSEN
SUMMARY:"Guter Start in den Tag" - lecker und gesund Frühstücken für die ganze Familie (X3GV197) 
LOCATION:Lehrküche und /oder Essraum, Berliner Platz 3, 51379 Leverkusen
END:VEVENT
BEGIN:VEVENT
DTSTAMP:20260420T164534
DTSTART;TZID=Europe/Berlin:20260423T093000
DTEND;TZID=Europe/Berlin:20260423T114500
UID:X3GV197-20260423T093000@FAMSEMLEVERKUSEN
SUMMARY:"Guter Start in den Tag" - lecker und gesund Frühstücken für die ganze Familie (X3GV197) 
LOCATION:Lehrküche und /oder Essraum, Berliner Platz 3, 51379 Leverkusen
END:VEVENT
BEGIN:VEVENT
DTSTAMP:20260420T164534
DTSTART;TZID=Europe/Berlin:20260430T093000
DTEND;TZID=Europe/Berlin:20260430T114500
UID:X3GV197-20260430T093000@FAMSEMLEVERKUSEN
SUMMARY:"Guter Start in den Tag" - lecker und gesund Frühstücken für die ganze Familie (X3GV197) 
LOCATION:Lehrküche und /oder Essraum, Berliner Platz 3, 51379 Leverkusen
END:VEVENT
BEGIN:VEVENT
DTSTAMP:20260420T164534
DTSTART;TZID=Europe/Berlin:20260507T093000
DTEND;TZID=Europe/Berlin:20260507T114500
UID:X3GV197-20260507T093000@FAMSEMLEVERKUSEN
SUMMARY:"Guter Start in den Tag" - lecker und gesund Frühstücken für die ganze Familie (X3GV197) 
LOCATION:Lehrküche und /oder Essraum, Berliner Platz 3, 51379 Leverkusen
END:VEVENT
BEGIN:VEVENT
DTSTAMP:20260420T164534
DTSTART;TZID=Europe/Berlin:20260521T093000
DTEND;TZID=Europe/Berlin:20260521T114500
UID:X3GV197-20260521T093000@FAMSEMLEVERKUSEN
SUMMARY:"Guter Start in den Tag" - lecker und gesund Frühstücken für die ganze Familie (X3GV197) 
LOCATION:Lehrküche und /oder Essraum, Berliner Platz 3, 51379 Leverkusen
END:VEVENT
BEGIN:VEVENT
DTSTAMP:20260420T164534
DTSTART;TZID=Europe/Berlin:20260528T093000
DTEND;TZID=Europe/Berlin:20260528T114500
UID:X3GV197-20260528T093000@FAMSEMLEVERKUSEN
SUMMARY:"Guter Start in den Tag" - lecker und gesund Frühstücken für die ganze Familie (X3GV197) 
LOCATION:Lehrküche und /oder Essraum, Berliner Platz 3, 51379 Leverkusen
END:VEVENT
BEGIN:VEVENT
DTSTAMP:20260420T164534
DTSTART;TZID=Europe/Berlin:20260611T093000
DTEND;TZID=Europe/Berlin:20260611T114500
UID:X3GV197-20260611T093000@FAMSEMLEVERKUSEN
SUMMARY:"Guter Start in den Tag" - lecker und gesund Frühstücken für die ganze Familie (X3GV197) 
LOCATION:Lehrküche und /oder Essraum, Berliner Platz 3, 51379 Leverkusen
END:VEVENT
BEGIN:VEVENT
DTSTAMP:20260420T164534
DTSTART;TZID=Europe/Berlin:20260618T093000
DTEND;TZID=Europe/Berlin:20260618T114500
UID:X3GV197-20260618T093000@FAMSEMLEVERKUSEN
SUMMARY:"Guter Start in den Tag" - lecker und gesund Frühstücken für die ganze Familie (X3GV197) 
LOCATION:Lehrküche und /oder Essraum, Berliner Platz 3, 51379 Leverkusen
END:VEVENT
BEGIN:VEVENT
DTSTAMP:20260420T164534
DTSTART;TZID=Europe/Berlin:20260625T093000
DTEND;TZID=Europe/Berlin:20260625T114500
UID:X3GV197-20260625T093000@FAMSEMLEVERKUSEN
SUMMARY:"Guter Start in den Tag" - lecker und gesund Frühstücken für die ganze Familie (X3GV197) 
LOCATION:Lehrküche und /oder Essraum, Berliner Platz 3, 51379 Leverkusen
END:VEVENT
BEGIN:VEVENT
DTSTAMP:20260420T164534
DTSTART;TZID=Europe/Berlin:20260702T093000
DTEND;TZID=Europe/Berlin:20260702T114500
UID:X3GV197-20260702T093000@FAMSEMLEVERKUSEN
SUMMARY:"Guter Start in den Tag" - lecker und gesund Frühstücken für die ganze Familie (X3GV197) 
LOCATION:Lehrküche und /oder Essraum, Berliner Platz 3, 51379 Leverkusen
END:VEVENT
BEGIN:VEVENT
DTSTAMP:20260420T164534
DTSTART;TZID=Europe/Berlin:20260709T093000
DTEND;TZID=Europe/Berlin:20260709T114500
UID:X3GV197-20260709T093000@FAMSEMLEVERKUSEN
SUMMARY:"Guter Start in den Tag" - lecker und gesund Frühstücken für die ganze Familie (X3GV197) 
LOCATION:Lehrküche und /oder Essraum, Berliner Platz 3, 51379 Leverkusen
END:VEVENT
BEGIN:VEVENT
DTSTAMP:20260420T164534
DTSTART;TZID=Europe/Berlin:20260716T093000
DTEND;TZID=Europe/Berlin:20260716T114500
UID:X3GV197-20260716T093000@FAMSEMLEVERKUSEN
SUMMARY:"Guter Start in den Tag" - lecker und gesund Frühstücken für die ganze Familie (X3GV197) 
LOCATION:Lehrküche und /oder Essraum, Berliner Platz 3, 51379 Leverkusen
END:VEVENT
END:VCALENDAR