BEGIN:VCALENDAR
VERSION:2.0
PRODID:https://www.kufer.de/kuferweb / DE
METHOD:PUBLISH
CALSCALE:GREGORIAN
X-WR-TIMEZONE:Europe/Berlin
BEGIN:VTIMEZONE
TZID:Europe/Berlin
X-LIC-LOCATION:Europe/Berlin
BEGIN:DAYLIGHT
TZOFFSETFROM:+0100
TZOFFSETTO:+0200
TZNAME:CEST
DTSTART:19700329T020000
RRULE:FREQ=YEARLY;INTERVAL=1;BYDAY=-1SU;BYMONTH=3
END:DAYLIGHT
BEGIN:STANDARD
TZOFFSETFROM:+0200
TZOFFSETTO:+0100
TZNAME:CET
DTSTART:19701025T030000
RRULE:FREQ=YEARLY;INTERVAL=1;BYDAY=-1SU;BYMONTH=10
END:STANDARD
END:VTIMEZONE
BEGIN:VEVENT
DTSTAMP:20260420T181625
DTSTART;TZID=Europe/Berlin:20250830T100000
DTEND;TZID=Europe/Berlin:20250830T173000
UID:X3GV196-20250830T100000@FAMSEMLEVERKUSEN
SUMMARY:Kochtreff I (X3GV196) 
LOCATION:Lehrküche und /oder Essraum, Berliner Platz 3, 51379 Leverkusen
END:VEVENT
BEGIN:VEVENT
DTSTAMP:20260420T181625
DTSTART;TZID=Europe/Berlin:20250927T100000
DTEND;TZID=Europe/Berlin:20250927T173000
UID:X3GV196-20250927T100000@FAMSEMLEVERKUSEN
SUMMARY:Kochtreff I (X3GV196) 
LOCATION:Lehrküche und /oder Essraum, Berliner Platz 3, 51379 Leverkusen
END:VEVENT
BEGIN:VEVENT
DTSTAMP:20260420T181625
DTSTART;TZID=Europe/Berlin:20251025T100000
DTEND;TZID=Europe/Berlin:20251025T173000
UID:X3GV196-20251025T100000@FAMSEMLEVERKUSEN
SUMMARY:Kochtreff I (X3GV196) 
LOCATION:Lehrküche und /oder Essraum, Berliner Platz 3, 51379 Leverkusen
END:VEVENT
BEGIN:VEVENT
DTSTAMP:20260420T181625
DTSTART;TZID=Europe/Berlin:20251213T100000
DTEND;TZID=Europe/Berlin:20251213T173000
UID:X3GV196-20251213T100000@FAMSEMLEVERKUSEN
SUMMARY:Kochtreff I (X3GV196) 
LOCATION:Lehrküche und /oder Essraum, Berliner Platz 3, 51379 Leverkusen
END:VEVENT
BEGIN:VEVENT
DTSTAMP:20260420T181625
DTSTART;TZID=Europe/Berlin:20260124T100000
DTEND;TZID=Europe/Berlin:20260124T173000
UID:X3GV196-20260124T100000@FAMSEMLEVERKUSEN
SUMMARY:Kochtreff I (X3GV196) 
LOCATION:Lehrküche und /oder Essraum, Berliner Platz 3, 51379 Leverkusen
END:VEVENT
BEGIN:VEVENT
DTSTAMP:20260420T181625
DTSTART;TZID=Europe/Berlin:20260228T100000
DTEND;TZID=Europe/Berlin:20260228T173000
UID:X3GV196-20260228T100000@FAMSEMLEVERKUSEN
SUMMARY:Kochtreff I (X3GV196) 
LOCATION:Lehrküche und /oder Essraum, Berliner Platz 3, 51379 Leverkusen
END:VEVENT
BEGIN:VEVENT
DTSTAMP:20260420T181625
DTSTART;TZID=Europe/Berlin:20260328T100000
DTEND;TZID=Europe/Berlin:20260328T173000
UID:X3GV196-20260328T100000@FAMSEMLEVERKUSEN
SUMMARY:Kochtreff I (X3GV196) 
LOCATION:Lehrküche und /oder Essraum, Berliner Platz 3, 51379 Leverkusen
END:VEVENT
BEGIN:VEVENT
DTSTAMP:20260420T181625
DTSTART;TZID=Europe/Berlin:20260425T100000
DTEND;TZID=Europe/Berlin:20260425T173000
UID:X3GV196-20260425T100000@FAMSEMLEVERKUSEN
SUMMARY:Kochtreff I (X3GV196) 
LOCATION:Lehrküche und /oder Essraum, Berliner Platz 3, 51379 Leverkusen
END:VEVENT
BEGIN:VEVENT
DTSTAMP:20260420T181625
DTSTART;TZID=Europe/Berlin:20260523T100000
DTEND;TZID=Europe/Berlin:20260523T173000
UID:X3GV196-20260523T100000@FAMSEMLEVERKUSEN
SUMMARY:Kochtreff I (X3GV196) 
LOCATION:Lehrküche und /oder Essraum, Berliner Platz 3, 51379 Leverkusen
END:VEVENT
BEGIN:VEVENT
DTSTAMP:20260420T181625
DTSTART;TZID=Europe/Berlin:20260627T100000
DTEND;TZID=Europe/Berlin:20260627T173000
UID:X3GV196-20260627T100000@FAMSEMLEVERKUSEN
SUMMARY:Kochtreff I (X3GV196) 
LOCATION:Lehrküche und /oder Essraum, Berliner Platz 3, 51379 Leverkusen
END:VEVENT
BEGIN:VEVENT
DTSTAMP:20260420T181625
DTSTART;TZID=Europe/Berlin:20260725T100000
DTEND;TZID=Europe/Berlin:20260725T173000
UID:X3GV196-20260725T100000@FAMSEMLEVERKUSEN
SUMMARY:Kochtreff I (X3GV196) 
LOCATION:Lehrküche und /oder Essraum, Berliner Platz 3, 51379 Leverkusen
END:VEVENT
END:VCALENDAR