BEGIN:VCALENDAR
VERSION:2.0
PRODID:https://www.kufer.de/kuferweb / DE
METHOD:PUBLISH
CALSCALE:GREGORIAN
X-WR-TIMEZONE:Europe/Berlin
BEGIN:VTIMEZONE
TZID:Europe/Berlin
X-LIC-LOCATION:Europe/Berlin
BEGIN:DAYLIGHT
TZOFFSETFROM:+0100
TZOFFSETTO:+0200
TZNAME:CEST
DTSTART:19700329T020000
RRULE:FREQ=YEARLY;INTERVAL=1;BYDAY=-1SU;BYMONTH=3
END:DAYLIGHT
BEGIN:STANDARD
TZOFFSETFROM:+0200
TZOFFSETTO:+0100
TZNAME:CET
DTSTART:19701025T030000
RRULE:FREQ=YEARLY;INTERVAL=1;BYDAY=-1SU;BYMONTH=10
END:STANDARD
END:VTIMEZONE
BEGIN:VEVENT
DTSTAMP:20260420T163926
DTSTART;TZID=Europe/Berlin:20250828T183000
DTEND;TZID=Europe/Berlin:20250828T221500
UID:X3GV192-20250828T183000@FAMSEMLEVERKUSEN
SUMMARY:Kochtreff V (X3GV192) 
LOCATION:Lehrküche und /oder Essraum, Berliner Platz 3, 51379 Leverkusen
END:VEVENT
BEGIN:VEVENT
DTSTAMP:20260420T163926
DTSTART;TZID=Europe/Berlin:20251009T183000
DTEND;TZID=Europe/Berlin:20251009T221500
UID:X3GV192-20251009T183000@FAMSEMLEVERKUSEN
SUMMARY:Kochtreff V (X3GV192) 
LOCATION:Lehrküche und /oder Essraum, Berliner Platz 3, 51379 Leverkusen
END:VEVENT
BEGIN:VEVENT
DTSTAMP:20260420T163926
DTSTART;TZID=Europe/Berlin:20251120T183000
DTEND;TZID=Europe/Berlin:20251120T221500
UID:X3GV192-20251120T183000@FAMSEMLEVERKUSEN
SUMMARY:Kochtreff V (X3GV192) 
LOCATION:Lehrküche und /oder Essraum, Berliner Platz 3, 51379 Leverkusen
END:VEVENT
BEGIN:VEVENT
DTSTAMP:20260420T163926
DTSTART;TZID=Europe/Berlin:20260122T183000
DTEND;TZID=Europe/Berlin:20260122T221500
UID:X3GV192-20260122T183000@FAMSEMLEVERKUSEN
SUMMARY:Kochtreff V (X3GV192) 
LOCATION:Lehrküche und /oder Essraum, Berliner Platz 3, 51379 Leverkusen
END:VEVENT
BEGIN:VEVENT
DTSTAMP:20260420T163926
DTSTART;TZID=Europe/Berlin:20260319T183000
DTEND;TZID=Europe/Berlin:20260319T221500
UID:X3GV192-20260319T183000@FAMSEMLEVERKUSEN
SUMMARY:Kochtreff V (X3GV192) 
LOCATION:Lehrküche und /oder Essraum, Berliner Platz 3, 51379 Leverkusen
END:VEVENT
BEGIN:VEVENT
DTSTAMP:20260420T163926
DTSTART;TZID=Europe/Berlin:20260507T183000
DTEND;TZID=Europe/Berlin:20260507T221500
UID:X3GV192-20260507T183000@FAMSEMLEVERKUSEN
SUMMARY:Kochtreff V (X3GV192) 
LOCATION:Lehrküche und /oder Essraum, Berliner Platz 3, 51379 Leverkusen
END:VEVENT
BEGIN:VEVENT
DTSTAMP:20260420T163926
DTSTART;TZID=Europe/Berlin:20260618T183000
DTEND;TZID=Europe/Berlin:20260618T221500
UID:X3GV192-20260618T183000@FAMSEMLEVERKUSEN
SUMMARY:Kochtreff V (X3GV192) 
LOCATION:Lehrküche und /oder Essraum, Berliner Platz 3, 51379 Leverkusen
END:VEVENT
BEGIN:VEVENT
DTSTAMP:20260420T163926
DTSTART;TZID=Europe/Berlin:20260716T183000
DTEND;TZID=Europe/Berlin:20260716T221500
UID:X3GV192-20260716T183000@FAMSEMLEVERKUSEN
SUMMARY:Kochtreff V (X3GV192) 
LOCATION:Lehrküche und /oder Essraum, Berliner Platz 3, 51379 Leverkusen
END:VEVENT
END:VCALENDAR