BEGIN:VCALENDAR
VERSION:2.0
PRODID:https://www.kufer.de/kuferweb / DE
METHOD:PUBLISH
CALSCALE:GREGORIAN
X-WR-TIMEZONE:Europe/Berlin
BEGIN:VTIMEZONE
TZID:Europe/Berlin
X-LIC-LOCATION:Europe/Berlin
BEGIN:DAYLIGHT
TZOFFSETFROM:+0100
TZOFFSETTO:+0200
TZNAME:CEST
DTSTART:19700329T020000
RRULE:FREQ=YEARLY;INTERVAL=1;BYDAY=-1SU;BYMONTH=3
END:DAYLIGHT
BEGIN:STANDARD
TZOFFSETFROM:+0200
TZOFFSETTO:+0100
TZNAME:CET
DTSTART:19701025T030000
RRULE:FREQ=YEARLY;INTERVAL=1;BYDAY=-1SU;BYMONTH=10
END:STANDARD
END:VTIMEZONE
BEGIN:VEVENT
DTSTAMP:20260420T164642
DTSTART;TZID=Europe/Berlin:20250923T183000
DTEND;TZID=Europe/Berlin:20250923T221500
UID:X3GV185-20250923T183000@FAMSEMLEVERKUSEN
SUMMARY:Kochtreff II (X3GV185) 
LOCATION:Lehrküche und /oder Essraum, Berliner Platz 3, 51379 Leverkusen
END:VEVENT
BEGIN:VEVENT
DTSTAMP:20260420T164642
DTSTART;TZID=Europe/Berlin:20251111T183000
DTEND;TZID=Europe/Berlin:20251111T221500
UID:X3GV185-20251111T183000@FAMSEMLEVERKUSEN
SUMMARY:Kochtreff II (X3GV185) 
LOCATION:Lehrküche und /oder Essraum, Berliner Platz 3, 51379 Leverkusen
END:VEVENT
BEGIN:VEVENT
DTSTAMP:20260420T164642
DTSTART;TZID=Europe/Berlin:20260120T183000
DTEND;TZID=Europe/Berlin:20260120T221500
UID:X3GV185-20260120T183000@FAMSEMLEVERKUSEN
SUMMARY:Kochtreff II (X3GV185) 
LOCATION:Lehrküche und /oder Essraum, Berliner Platz 3, 51379 Leverkusen
END:VEVENT
BEGIN:VEVENT
DTSTAMP:20260420T164642
DTSTART;TZID=Europe/Berlin:20260303T183000
DTEND;TZID=Europe/Berlin:20260303T221500
UID:X3GV185-20260303T183000@FAMSEMLEVERKUSEN
SUMMARY:Kochtreff II (X3GV185) 
LOCATION:Lehrküche und /oder Essraum, Berliner Platz 3, 51379 Leverkusen
END:VEVENT
BEGIN:VEVENT
DTSTAMP:20260420T164642
DTSTART;TZID=Europe/Berlin:20260505T183000
DTEND;TZID=Europe/Berlin:20260505T221500
UID:X3GV185-20260505T183000@FAMSEMLEVERKUSEN
SUMMARY:Kochtreff II (X3GV185) 
LOCATION:Lehrküche und /oder Essraum, Berliner Platz 3, 51379 Leverkusen
END:VEVENT
BEGIN:VEVENT
DTSTAMP:20260420T164642
DTSTART;TZID=Europe/Berlin:20260630T183000
DTEND;TZID=Europe/Berlin:20260630T221500
UID:X3GV185-20260630T183000@FAMSEMLEVERKUSEN
SUMMARY:Kochtreff II (X3GV185) 
LOCATION:Lehrküche und /oder Essraum, Berliner Platz 3, 51379 Leverkusen
END:VEVENT
END:VCALENDAR